BEGIN:VCALENDAR
VERSION:2.0
PRODID:DPCALENDAR
CALSCALE:GREGORIAN
X-WR-TIMEZONE:UTC
BEGIN:VEVENT
DTSTART;VALUE=DATE:20250522
DTEND;VALUE=DATE:20250523
UID:BFD3A8B7-E6B9-43D0-A59E-88CD5888AE50
SUMMARY:Begegnungstag für alle Neu-Studierenden ab Herbst 2025
CREATED:20250513T083323Z
DTSTAMP:20250513T083323Z
URL:https://www.foerderlehrer-freising.de/index.php/kalender/begegnungstag-fuer-alle-neu-studierenden-ab-herbst-2025
DESCRIPTION:Wir veranstalten einen Begegnungstag für alle Neu-Studierenden, die im September 2025 ihre Ausbildung am Staatsinstitut Freising oder der Außenstelle Augsburg beginnen. Viel Spaß beim Kennenlernen!
X-ALT-DESC;FMTTYPE=text/html:<p>Wir veranstalten einen Begegnungstag für alle Neu-Studierenden, die im September 2025 ihre Ausbildung am Staatsinstitut Freising oder der Außenstelle Augsburg beginnen. Viel Spaß beim Kennenlernen!</p>
LAST-MODIFIED:20250513T083323Z
SEQUENCE:0
X-ACCESS:1
X-HITS:176
X-COLOR:fecb37
X-SHOW-END-TIME:1
END:VEVENT
BEGIN:VEVENT
DTSTART;VALUE=DATE:20250916
DTEND;VALUE=DATE:20250917
UID:24982F43-1971-437A-9C17-FCC8DA45A794
SUMMARY:1. Ausbildungstag 2025/26 - Willkommen am Staatsinstitut! Kurs 1 um 10 Uhr (Freising/Augsburg), Kurs 2 um 8.15 Uhr
CREATED:20250513T082107Z
DTSTAMP:20250513T082107Z
URL:https://www.foerderlehrer-freising.de/index.php/kalender/ausbildungsstart-2025-26-willkommen-am-staatsinstitut
DESCRIPTION:Herzlich Willkommen (zurück) am Staatsinstitut für das neue Ausbildungsjahr 2025/26!\NKurs 1 in Augsburg und Freising startet um 10.00 Uhr, Kurs 2 in Freising beginnt um 8.15 Uhr.\N 
X-ALT-DESC;FMTTYPE=text/html:<p>Herzlich Willkommen (zurück) am Staatsinstitut für das neue Ausbildungsjahr 2025/26!</p><p>Kurs 1 in Augsburg und Freising startet um 10.00 Uhr, Kurs 2 in Freising beginnt um 8.15 Uhr.</p><p> </p>
LAST-MODIFIED:20250805T093112Z
SEQUENCE:7261805
X-ACCESS:1
X-HITS:1033
X-COLOR:fecb37
X-SHOW-END-TIME:1
END:VEVENT
BEGIN:VEVENT
DTSTART;VALUE=DATE:20250927
DTEND;VALUE=DATE:20250928
UID:C0C641F9-7124-4AD4-AA46-F3AA6C772BA8
SUMMARY:Das Staatsinstitut auf der Messe - Ausbildungsmesse Geisenfeld
CREATED:20250923T083707Z
DTSTAMP:20250923T083707Z
URL:https://www.foerderlehrer-freising.de/index.php/kalender/das-staatsinstitut-auf-der-messe-ausbildungsmesse-geisenfeld
DESCRIPTION:Am 27.09.2025 (9.00 bis 15 Uhr) ist das Staatsinstitut Freising mit einem Stand auf der Ausbildungsmesse Geisenfeld vertreten. Wir freuen uns auf Ihren Besuch!
X-ALT-DESC;FMTTYPE=text/html:<p>Am <span style="font-size: 12.0pt; line-height: 130%; font-family: 'Verdana',sans-serif; mso-fareast-font-family: 'Times New Roman'; mso-bidi-font-family: 'Times New Roman'; mso-ansi-language: DE; mso-fareast-language: EN-US; mso-bidi-language: EN-US;">27.09.2025 (9.00 bis 15 Uhr) ist das Staatsinstitut Freising mit einem Stand auf der Ausbildungsmesse Geisenfeld vertreten. Wir freuen uns auf Ihren Besuch!</span></p>
LAST-MODIFIED:20250923T083707Z
SEQUENCE:0
X-ACCESS:1
X-HITS:134
X-COLOR:fecb37
X-SHOW-END-TIME:1
END:VEVENT
BEGIN:VEVENT
DTSTART;TZID=UTC:20251011T093000
DTEND;TZID=UTC:20251011T130000
UID:8C192E3B-005E-41CC-A107-B851CFBABC82
SUMMARY:"Tag der offenen Tür" in Augsburg (SI-Außenstelle)
CREATED:20250513T074639Z
DTSTAMP:20250513T074639Z
URL:https://www.foerderlehrer-freising.de/index.php/kalender/tag-der-offenen-tuer-in-augsburg
DESCRIPTION:Wir laden Sie herzlich ein zu unserem "Tag der offenen Tür" am 11.10.2025 in Augsburg! Von 09.30 bis 13.00 Uhr gibt es ein buntes Informationsprogramm in der Henisiusstraße 1, 86152 Augsburg. Wir freuen uns auf Ihren Besuch!
X-ALT-DESC;FMTTYPE=text/html:<p>Wir laden Sie herzlich ein zu unserem "Tag der offenen Tür" <span style="font-size: 1rem;">am 11.10.2025 in Augsburg! Von 09.30 bis 13.00 Uhr gibt es ein buntes Informationsprogramm in der Henisiusstraße 1, 86152 Augsburg. </span><span style="font-size: 1rem;">Wir freuen uns auf Ihren Besuch!</span></p>
LAST-MODIFIED:20251001T085411Z
SEQUENCE:12186452
X-ACCESS:1
X-HITS:991
X-COLOR:fecb37
X-SHOW-END-TIME:1
END:VEVENT
BEGIN:VEVENT
DTSTART;TZID=UTC:20251016T170000
DTEND;TZID=UTC:20251016T200000
UID:6F4DC128-71B0-4E7B-B0AE-D0063CEE4344
SUMMARY:Das Staatsinstitut auf der Messe - Germeringer Berufsinformationsmesse
CREATED:20250923T084548Z
DTSTAMP:20250923T084548Z
URL:https://www.foerderlehrer-freising.de/index.php/kalender/das-staatsinstitut-auf-der-messe-germeringer-berufsinformationsmesse
DESCRIPTION:Am 16.10.2025 (17.00 bis 20.00 Uhr) ist das Staatsinstitut Freising auf der Germeringer Berufsinformationsmesse vertreten. Wir freuen uns auf Ihren Besuch!
X-ALT-DESC;FMTTYPE=text/html:<p>Am 16.10.2025 (17.00 bis 20.00 Uhr) ist das Staatsinstitut Freising auf der Germeringer Berufsinformationsmesse vertreten. Wir freuen uns auf Ihren Besuch!</p>
LAST-MODIFIED:20251001T085519Z
SEQUENCE:691771
X-ACCESS:1
X-HITS:282
X-COLOR:fecb37
X-SHOW-END-TIME:1
END:VEVENT
BEGIN:VEVENT
DTSTART;TZID=UTC:20251025T100000
DTEND;TZID=UTC:20251025T140000
UID:78DC34B5-403A-410D-907A-5F2E48DEC785
SUMMARY:"Tag der offenen Tür" in Freising 
CREATED:20250513T081532Z
DTSTAMP:20250513T081532Z
URL:https://www.foerderlehrer-freising.de/index.php/kalender/tag-der-offenen-tuer-in-freising
DESCRIPTION:Wir laden Sie herzlich ein zu unserem "Tag der offenen Tür" am 25.10.2025 in Freising! Von 10.00 bis 14.00 Uhr gibt es ein buntes Informationsprogramm in der Heiliggeistgasse 1, 85354 Freising. Wir freuen uns auf Ihren Besuch!
X-ALT-DESC;FMTTYPE=text/html:<p>Wir laden Sie herzlich ein zu unserem "Tag der offenen Tür" <span style="font-size: 1rem;">am 25.10.2025 in Freising! </span><span style="font-size: 1rem;">Von 10.00 bis 14.00 Uhr gibt es ein buntes Informationsprogramm in der </span><span style="font-size: 1rem;">Heiliggeistgasse 1, </span>85354 Freising. <span style="font-size: 1rem;">Wir freuen uns auf Ihren Besuch!</span></p>
LAST-MODIFIED:20251001T085442Z
SEQUENCE:12184750
X-ACCESS:1
X-HITS:863
X-COLOR:fecb37
X-SHOW-END-TIME:1
END:VEVENT
BEGIN:VEVENT
DTSTART;TZID=UTC:20251113T100000
DTEND;TZID=UTC:20251113T160000
UID:B0CB5BA7-55CA-415E-B492-87DD552F667A
SUMMARY:Das Staatsinstitut auf der Messe - Zukunft sozial im Bürgerhaus Haar 
CREATED:20250923T085737Z
DTSTAMP:20250923T085737Z
URL:https://www.foerderlehrer-freising.de/index.php/kalender/das-staatsinstitut-auf-der-messe-zukunft-sozial-im-buergerhaus-haar
DESCRIPTION:Am 13.11.2025 (10.00 bis 16.00 Uhr) ist das Staatsinstitut Freising auf der Messe "Zukunft sozial" im Bürgerhaus Haar vertreten. Wir freuen uns auf Ihren Besuch!
X-ALT-DESC;FMTTYPE=text/html:<p>Am 13.11.2025 (10.00 bis 16.00 Uhr) ist das Staatsinstitut Freising auf der Messe "Zukunft sozial" im Bürgerhaus Haar vertreten. Wir freuen uns auf Ihren Besuch!</p>
LAST-MODIFIED:20251001T085533Z
SEQUENCE:691076
X-ACCESS:1
X-HITS:382
X-COLOR:fecb37
X-SHOW-END-TIME:1
END:VEVENT
BEGIN:VEVENT
DTSTART;VALUE=DATE:20251115
DTEND;VALUE=DATE:20251116
UID:AA3325EB-8DD6-436F-B8A2-BF2EE6EDA41B
SUMMARY:Das Staatsinstitut auf der Messe - 20. Berufetag der Freisinger Karl-Meichelbeck-Realschule 
CREATED:20250923T090905Z
DTSTAMP:20250923T090905Z
URL:https://www.foerderlehrer-freising.de/index.php/kalender/das-staatsinstitut-auf-der-messe-20-berufetag-der-freisinger-karl-meichelbeck-realschule
DESCRIPTION:Am 15.11.2025 (9.00 bis 12.00 Uhr) ist das Staatsinstitut Freising mit einem Stand beim 20. Berufetag der Freisinger Karl-Meichelbeck-Realschule vertreten. Wir freuen uns auf Ihren Besuch!
X-ALT-DESC;FMTTYPE=text/html:<p>Am 15.11.2025 (9.00 bis 12.00 Uhr) ist das Staatsinstitut Freising mit einem Stand beim 20. Berufetag der Freisinger Karl-Meichelbeck-Realschule vertreten. Wir freuen uns auf Ihren Besuch!</p>
LAST-MODIFIED:20250923T090905Z
SEQUENCE:0
X-ACCESS:1
X-HITS:587
X-COLOR:fecb37
X-SHOW-END-TIME:1
END:VEVENT
BEGIN:VEVENT
DTSTART;TZID=UTC:20251115T090000
DTEND;TZID=UTC:20251115T143000
UID:6D9454C7-6865-4DE5-972D-B9518CF4A73D
SUMMARY:Das Staatsinstitut auf der Messe - "Bleib hier!" in Dingolfing
CREATED:20250923T090100Z
DTSTAMP:20250923T090100Z
URL:https://www.foerderlehrer-freising.de/index.php/kalender/das-staatsinstitut-auf-der-messe-bleib-hier-in-dingolfing
DESCRIPTION:Am 15.11.2025 (09.00 bis 14.30 Uhr) ist das Staatsinstitut Freising mit einem Stand auf der Messe "Bleib hier!" in Dingolfing vertreten. Wir freuen uns auf Ihren Besuch!
X-ALT-DESC;FMTTYPE=text/html:<p>Am 15.11.2025 (09.00 bis 14.30 Uhr) ist das Staatsinstitut Freising mit einem Stand auf der Messe "Bleib hier!" in Dingolfing vertreten. Wir freuen uns auf Ihren Besuch!</p>
LAST-MODIFIED:20251001T085607Z
SEQUENCE:690907
X-ACCESS:1
X-HITS:318
X-COLOR:fecb37
X-SHOW-END-TIME:1
END:VEVENT
BEGIN:VEVENT
DTSTART;TZID=UTC:20251125T170000
DTEND;TZID=UTC:20251125T180000
UID:F978C652-95CB-42DF-BF78-0878F383C980
SUMMARY:Online-Informationsveranstaltung zur Ausbildung
CREATED:20250220T125702Z
DTSTAMP:20250220T125702Z
URL:https://www.foerderlehrer-freising.de/index.php/kalender/online-informationsveranstaltung-zur-ausbildung
DESCRIPTION:Alle Interessierten sind herzlich eingeladen zur Online-Informationsveranstaltung am Dienstag, 25.11.2025, von 17 bis 18 Uhr. Bitte melden Sie sich per E-Mail an: staatsinstitut@foerderlehrer-freising.de. Sie bekommen kurz vor der Veranstaltung einen Link zugeschickt. 
X-ALT-DESC;FMTTYPE=text/html:<p>Alle Interessierten sind herzlich eingeladen zur <strong>Online-Informationsveranstaltung </strong>am Dienstag, 25.11.2025, von 17 bis 18 Uhr. Bitte melden Sie sich per E-Mail an: <a href="mailto:staatsinstitut@foerderlehrer-freising.de">staatsinstitut@foerderlehrer-freising.de</a>. Sie bekommen kurz vor der Veranstaltung einen Link zugeschickt. </p>
LAST-MODIFIED:20251008T085734Z
SEQUENCE:19857632
X-ACCESS:1
X-HITS:347
X-COLOR:fecb37
X-SHOW-END-TIME:1
END:VEVENT
BEGIN:VEVENT
DTSTART;VALUE=DATE:20260119
DTEND;VALUE=DATE:20260228
UID:D6290B32-7EDC-4C27-AAC4-FC3699D64E74
SUMMARY:Winterpraktikum für Studierende aus Kurs 2
CREATED:20250220T125952Z
DTSTAMP:20250220T125952Z
URL:https://www.foerderlehrer-freising.de/index.php/kalender/staatsinstitut-auf-der-messe-zentrale-berufsorientierungsmesse-regensburg
DESCRIPTION:Winterpraktikum vom 19.01. bis 27.02.2026 für Studierende aus Kurs 2. Wir wünschen allen viel Spaß und Erfolg im Praktikum!\N 
X-ALT-DESC;FMTTYPE=text/html:<p>Winterpraktikum vom 19.01. bis 27.02.2026 für Studierende aus Kurs 2. Wir wünschen allen viel Spaß und Erfolg im Praktikum!</p><p> </p>
LAST-MODIFIED:20260115T110819Z
SEQUENCE:28418907
X-ACCESS:1
X-HITS:476
X-COLOR:fecb37
X-SHOW-END-TIME:1
END:VEVENT
BEGIN:VEVENT
DTSTART;VALUE=DATE:20260126
DTEND;VALUE=DATE:20260228
UID:88C13816-B617-45C7-BCA2-D4EFD430BD4F
SUMMARY:Winterpraktikum für Studierende aus Kurs 1
CREATED:20250220T130026Z
DTSTAMP:20250220T130026Z
URL:https://www.foerderlehrer-freising.de/index.php/kalender/staatsinstitut-auf-der-messe-vocatium-landshut
DESCRIPTION:Winterpraktikum vom 26.01. bis 27.02.2026 für Studierende aus Kurs 1.\NWir wünschen allen viel Spaß und Erfolg im Praktikum!\N 
X-ALT-DESC;FMTTYPE=text/html:<p>Winterpraktikum vom 26.01. bis 27.02.2026 für Studierende aus Kurs 1.</p><p>Wir wünschen allen viel Spaß und Erfolg im Praktikum!</p><p> </p>
LAST-MODIFIED:20260115T111134Z
SEQUENCE:28419068
X-ACCESS:1
X-HITS:960
X-COLOR:fecb37
X-SHOW-END-TIME:1
END:VEVENT
BEGIN:VEVENT
DTSTART;VALUE=DATE:20260209
DTEND;VALUE=DATE:20260214
UID:01F850DF-E5D8-4AA7-A5F8-E05C09490C00
SUMMARY:Mündliche Aufnahmegespräche für das Ausbildungsjahr 2026/27
CREATED:20250220T125333Z
DTSTAMP:20250220T125333Z
URL:https://www.foerderlehrer-freising.de/index.php/kalender/muendliche-aufnahmegespraeche-fuer-das-ausbildungsjahr-2025-26
LAST-MODIFIED:20260115T110001Z
SEQUENCE:28418788
X-ACCESS:1
X-HITS:194
X-COLOR:fecb37
X-SHOW-END-TIME:1
END:VEVENT
BEGIN:VEVENT
DTSTART;VALUE=DATE:20260216
DTEND;VALUE=DATE:20260221
UID:A389EC57-4BF7-4C64-A135-D461F77D7153
SUMMARY:Frühjahrsferien
CREATED:20250513T082800Z
DTSTAMP:20250513T082800Z
URL:https://www.foerderlehrer-freising.de/index.php/kalender/sommerferien
DESCRIPTION:Wir wünschen allen Studierenden eine erholsame Zeit!
X-ALT-DESC;FMTTYPE=text/html:<p>Wir wünschen allen Studierenden eine erholsame Zeit!</p>
LAST-MODIFIED:20260115T105641Z
SEQUENCE:21349721
X-ACCESS:1
X-HITS:649
X-COLOR:fecb37
X-SHOW-END-TIME:1
END:VEVENT
BEGIN:VEVENT
DTSTART;VALUE=DATE:20260320
DTEND;VALUE=DATE:20260321
UID:26D87B7B-05D5-4CC1-B55C-44DB26C688BF
SUMMARY:Bewerbungsschluss: 2. Aufnahmeverfahren für 2026/27
CREATED:20250220T125818Z
DTSTAMP:20250220T125818Z
URL:https://www.foerderlehrer-freising.de/index.php/kalender/bewerbungsschluss-2-aufnahmeverfahren-fuer-2026-27
DESCRIPTION:Notwendige Bewerbungsunterlagen:\N\NLebenslauf (tabellarisch)\NNachweis der erforderlichen Schulbildung (Mittlerer Bildungsabschluss); wenn die erforderliche Schulbildung erst am Ende des laufenden Schuljahres abgeschlossen wird, ist der Bewerbung zunächst das letzte Zwischen- oder ggf. Jahreszeugnis beizufügen,\Nsowie bei minderjährigen Bewerberinnen und Bewerbern die schriftliche Einverständniserklärung der Erziehungsberechtigten.\N\NWeitere Informationen finden Sie unter: https://www.gesetze-bayern.de/Content/Document/BayFoelSO-4\NBei erfolgreicher Aufnahme ist ein erweitertes Führungszeugnis vorzulegen, das nicht älter als sechs Monate bei Beginn der Ausbildung ist (sofern nicht unmittelbar der Übergang aus einer Schule erfolgt).\NSenden Sie uns Ihre Bewerbung mit der Post oder per E-Mail (es können nur WORD und PDF-Dateien angenommen werden) zu:\NStaatsinstitut für die Ausbildung von Förderlehrern, Abteilung IIHeiliggeistgasse 185354 Freising\Nstaatsinstitut@foerderlehrer-freising.de \N 
X-ALT-DESC;FMTTYPE=text/html:<p><strong>Notwendige Bewerbungsunterlagen:</strong></p><ul><li>Lebenslauf (tabellarisch)</li><li>Nachweis der erforderlichen Schulbildung (Mittlerer Bildungsabschluss); wenn die erforderliche Schulbildung erst am Ende des laufenden Schuljahres abgeschlossen wird, ist der Bewerbung zunächst das letzte Zwischen- oder ggf. Jahreszeugnis beizufügen,</li><li>sowie bei minderjährigen Bewerberinnen und Bewerbern die schriftliche Einverständniserklärung der Erziehungsberechtigten.</li></ul><p><strong>Weitere Informationen finden Sie unter: </strong><a href="https://www.gesetze-bayern.de/Content/Document/BayFoelSO-4">https://www.gesetze-bayern.de/Content/Document/BayFoelSO-4</a></p><p>Bei erfolgreicher Aufnahme ist ein erweitertes Führungszeugnis vorzulegen, das nicht älter als sechs Monate bei Beginn der Ausbildung ist (sofern nicht unmittelbar der Übergang aus einer Schule erfolgt).</p><p><strong>Senden Sie uns Ihre Bewerbung mit der Post oder per E-Mail (es können nur WORD und PDF-Dateien angenommen werden) zu:</strong></p><p>Staatsinstitut für die Ausbildung von Förderlehrern, Abteilung II<br />Heiliggeistgasse 1<br />85354 Freising</p><p><a href="mailto:staatsinstitut@foerderlehrer-freising.de">staatsinstitut@foerderlehrer-freising.de</a> </p><p> </p>
LAST-MODIFIED:20260122T083633Z
SEQUENCE:29014695
X-ACCESS:1
X-HITS:1382
X-COLOR:fecb37
X-SHOW-END-TIME:1
END:VEVENT
BEGIN:VEVENT
DTSTART;VALUE=DATE:20260325
DTEND;VALUE=DATE:20260326
UID:39E75210-54A8-4046-B440-584557A36889
SUMMARY:2. Schriftliche Aufnahmeprüfung für das Ausbildungsjahr 2026/27
CREATED:20250220T125850Z
DTSTAMP:20250220T125850Z
URL:https://www.foerderlehrer-freising.de/index.php/kalender/2-schriftliche-aufnahmepruefung-fuer-das-ausbildungsjahr-2025-26
LAST-MODIFIED:20260122T083936Z
SEQUENCE:29014846
X-ACCESS:1
X-HITS:299
X-COLOR:fecb37
X-SHOW-END-TIME:0
END:VEVENT
BEGIN:VEVENT
DTSTART;VALUE=DATE:20260330
DTEND;VALUE=DATE:20260411
UID:DCB58461-625A-41B9-A5C3-6BCBACC88353
SUMMARY:Osterferien
CREATED:20250220T125607Z
DTSTAMP:20250220T125607Z
URL:https://www.foerderlehrer-freising.de/index.php/kalender/staatsinstitut-auf-der-messe-fit-for-job-augsburg
DESCRIPTION:Osterferien: 30. März - 10. April - Wir wünschen allen Studierenden eine erholsame Zeit!
X-ALT-DESC;FMTTYPE=text/html:<p><span style="font-size: 1rem;">Osterferien: 30. März - 10. April - Wir wünschen allen Studierenden eine erholsame Zeit!</span></p>
LAST-MODIFIED:20260115T110253Z
SEQUENCE:28418806
X-ACCESS:1
X-HITS:204
X-COLOR:fecb37
X-SHOW-END-TIME:1
END:VEVENT
BEGIN:VEVENT
DTSTART;VALUE=DATE:20260526
DTEND;VALUE=DATE:20260606
UID:157243DA-9649-4CF4-A832-02265586468A
SUMMARY:Pfingstferien 
CREATED:20250513T082445Z
DTSTAMP:20250513T082445Z
URL:https://www.foerderlehrer-freising.de/index.php/kalender/pfingstferien
DESCRIPTION:Pfingstferien: 26. Mai bis 5. Juni - wir wünschen allen Studierenden eine erholsame Zeit!\N 
X-ALT-DESC;FMTTYPE=text/html:<p>Pfingstferien: <span class="gs_tkn">26. </span><span class="gs_tkn">Mai </span><span class="gs_tkn">bis </span><span class="gs_tkn">5. </span><span class="gs_tkn">Juni</span> - wir wünschen allen Studierenden eine erholsame Zeit!</p><p> </p>
LAST-MODIFIED:20260115T105821Z
SEQUENCE:21350016
X-ACCESS:1
X-HITS:414
X-COLOR:fecb37
X-SHOW-END-TIME:1
END:VEVENT
END:VCALENDAR